BEGIN:VCALENDAR
VERSION:2.0
PRODID:Events Booking
BEGIN:VEVENT
UID:69e9ddfa67ca5
SUMMARY:SH2302 Reading for Pleasure session 4
DESCRIPTION:
DTSTART:20210518T150000Z
DTEND:20210518T163000Z
DTSTAMP:20260423T085314Z
ORGANIZER;CN=5 Wells Development Centre:MAILTO:victoria.brennan@5wells.org.
 uk
END:VEVENT
END:VCALENDAR