BEGIN:VCALENDAR
VERSION:2.0
PRODID:Events Booking
BEGIN:VEVENT
UID:69e99cf4c2af7
SUMMARY:SH2302 Reading for Pleasure session 5
DESCRIPTION:
DTSTART:20210622T150000Z
DTEND:20210622T163000Z
DTSTAMP:20260423T041548Z
ORGANIZER;CN=5 Wells Development Centre:MAILTO:victoria.brennan@5wells.org.
 uk
END:VEVENT
END:VCALENDAR