BEGIN:VCALENDAR
VERSION:2.0
PRODID:Events Booking
BEGIN:VEVENT
UID:69ea33a084b59
SUMMARY:STA1101 KS1 STA Training and Updates
DESCRIPTION:THIS SESSION IS NOW FULL - PLEASE CONSIDER OUR 11TH FEBRUARY SE
 SSION
 
 
LOCATION:Barnwell Rd\, Wellingborough NN8\, UK
DTSTART:20210111T090000Z
DTEND:20210111T160000Z
DTSTAMP:20260423T145840Z
ORGANIZER;CN=5 Wells Development Centre:MAILTO:victoria.brennan@5wells.org.
 uk
GEO:52.314941;-0.712512
X-APPLE-STRUCTURED-LOCATION;VALUE=URI;X-ADDRESS=Barnwell Rd\, Wellingboroug
 h NN8\, UK;X-APPLE-RADIUS=72;X-TITLE=5 Wells Development Centre @ Redwell 
 Primary :52.314941;-0.712512
END:VEVENT
END:VCALENDAR