BEGIN:VCALENDAR
VERSION:2.0
PRODID:Events Booking
BEGIN:VEVENT
UID:69ea1a60b63d0
SUMMARY:5 Wells Teaching Apprenticeship 20/21 cohort
DESCRIPTION:
 &nbsp\;
LOCATION:Barnwell Rd\, Wellingborough NN8\, UK
DTSTART:20210226T090000Z
DTEND:20210226T153000Z
DTSTAMP:20260423T131056Z
ORGANIZER;CN=5 Wells Development Centre:MAILTO:victoria.brennan@5wells.org.
 uk
GEO:52.314941;-0.712512
X-APPLE-STRUCTURED-LOCATION;VALUE=URI;X-ADDRESS=Barnwell Rd\, Wellingboroug
 h NN8\, UK;X-APPLE-RADIUS=72;X-TITLE=5 Wells Development Centre @ Redwell 
 Primary :52.314941;-0.712512
END:VEVENT
END:VCALENDAR