BEGIN:VCALENDAR
VERSION:2.0
PRODID:Events Booking
BEGIN:VEVENT
UID:69ea198d33413
SUMMARY:N2G0202 Governor Foundation Training
DESCRIPTION:
DTSTART:20210202T183000Z
DTEND:20210202T203000Z
DTSTAMP:20260423T130725Z
ORGANIZER;CN=5 Wells Development Centre:MAILTO:victoria.brennan@5wells.org.
 uk
END:VEVENT
END:VCALENDAR