BEGIN:VCALENDAR
VERSION:2.0
PRODID:Events Booking
BEGIN:VEVENT
UID:69ea198d01d49
SUMMARY:N2G0902 Governor Foundation Training
DESCRIPTION:
DTSTART:20210209T183000Z
DTEND:20210209T203000Z
DTSTAMP:20260423T130725Z
ORGANIZER;CN=5 Wells Development Centre:MAILTO:victoria.brennan@5wells.org.
 uk
END:VEVENT
END:VCALENDAR