BEGIN:VCALENDAR
VERSION:2.0
PRODID:Events Booking
BEGIN:VEVENT
UID:69ea19853aac0
SUMMARY:DSL2302 DSL Foundation
DESCRIPTION:
DTSTART:20210223T090000Z
DTEND:20210223T000000Z
DTSTAMP:20260423T130717Z
ORGANIZER;CN=5 Wells Development Centre:MAILTO:victoria.brennan@5wells.org.
 uk
END:VEVENT
END:VCALENDAR