BEGIN:VCALENDAR
VERSION:2.0
PRODID:Events Booking
BEGIN:VEVENT
UID:69e9fd4a77861
SUMMARY:BM0203 Behaviour Management and Positive Handling for Primary Schoo
 ls
DESCRIPTION:
DTSTART:20210302T090000Z
DTEND:20210302T160000Z
DTSTAMP:20260423T110650Z
ORGANIZER;CN=5 Wells Development Centre:MAILTO:victoria.brennan@5wells.org.
 uk
END:VEVENT
END:VCALENDAR