BEGIN:VCALENDAR
VERSION:2.0
PRODID:Events Booking
BEGIN:VEVENT
UID:69e9fd4949578
SUMMARY:STEM0403 An Introduction to Working Scientifically - part 1 of 2
DESCRIPTION:To book your place\, please follow this link:&nbsp\;&nbsp\;http
 s://www.stem.org.uk/cpd/490696/introduction-working-scientifically&nbsp\;
 
 &nbsp\;
DTSTART:20210304T140000Z
DTEND:20210304T160000Z
DTSTAMP:20260423T110649Z
ORGANIZER;CN=5 Wells Development Centre:MAILTO:victoria.brennan@5wells.org.
 uk
END:VEVENT
END:VCALENDAR