BEGIN:VCALENDAR
VERSION:2.0
PRODID:Events Booking
BEGIN:VEVENT
UID:69e9fc6511575
SUMMARY:STEM1803 An Introduction to Working Scientifically - part 2
DESCRIPTION:&nbsp\;
 
DTSTART:20210318T140000Z
DTEND:20210318T160000Z
DTSTAMP:20260423T110301Z
ORGANIZER;CN=5 Wells Development Centre:MAILTO:victoria.brennan@5wells.org.
 uk
END:VEVENT
END:VCALENDAR