BEGIN:VCALENDAR
VERSION:2.0
PRODID:Events Booking
BEGIN:VEVENT
UID:69e9fcd5df85b
SUMMARY:STEM1003 Developing Pupil Led Investigations - part 1 of 2
DESCRIPTION:To book your place\, please follow this link:&nbsp\;
 https://
 www.stem.org.uk/cpd/490697/developing-pupil-led-investigations-%E2%80%93-e
 mbedding-working-scientifically-primary-classroom
 &nbsp\;
 &nbsp\;
DTSTART:20210310T140000Z
DTEND:20210310T160000Z
DTSTAMP:20260423T110453Z
ORGANIZER;CN=5 Wells Development Centre:MAILTO:victoria.brennan@5wells.org.
 uk
END:VEVENT
END:VCALENDAR