BEGIN:VCALENDAR
VERSION:2.0
PRODID:Events Booking
BEGIN:VEVENT
UID:69e9fb05246f8
SUMMARY:TM1602 Time Management Tools
DESCRIPTION:
DTSTART:20210316T093000Z
DTEND:20210316T153000Z
DTSTAMP:20260423T105709Z
ORGANIZER;CN=5 Wells Development Centre:MAILTO:victoria.brennan@5wells.org.
 uk
END:VEVENT
END:VCALENDAR