BEGIN:VCALENDAR
VERSION:2.0
PRODID:Events Booking
BEGIN:VEVENT
UID:69e9fc818c650
SUMMARY:RW1803 Resilience and Wellbeing
DESCRIPTION:
DTSTART:20210318T093000Z
DTEND:20210318T153000Z
DTSTAMP:20260423T110329Z
ORGANIZER;CN=5 Wells Development Centre:MAILTO:victoria.brennan@5wells.org.
 uk
END:VEVENT
END:VCALENDAR