BEGIN:VCALENDAR
VERSION:2.0
PRODID:Events Booking
BEGIN:VEVENT
UID:69e9c4e484a96
SUMMARY:STEM2005 Developing working scientifically outside the classroom
DESCRIPTION:To book your place\, please follow this link:&nbsp\; https://ww
 w.stem.org.uk/cpd/491727/developing-working-scientifically-outside-classro
 om
 
DTSTART:20210520T080000Z
DTEND:20210520T143000Z
DTSTAMP:20260423T070612Z
ORGANIZER;CN=5 Wells Development Centre:MAILTO:victoria.brennan@5wells.org.
 uk
END:VEVENT
END:VCALENDAR