BEGIN:VCALENDAR
VERSION:2.0
PRODID:Events Booking
BEGIN:VEVENT
UID:69ed6bf04ceb9
SUMMARY:PR2709 Prevent Training
DESCRIPTION:This session has been postponed awaiting an update of the Gover
 nment's Prevent Strategy.&nbsp\; If you would like us to contact you when 
 a new date has been scheduled\, please complete the Waiting List request b
 elow. &nbsp\;
 
 Prevent Awareness Initial Training Course
 The UK gove
 rnment has recently placed a legal duty on schools to have due regard to t
 he need to prevent people from being drawn into terrorism.
 In order to f
 ulfil this legal duty schools must understand what is expected of them. Th
 ey must be aware of the practical steps that they can take to implement ef
 fective safeguarding systems and must develop a good understanding of the 
 nature of these rapidly evolving issues.
 We offer training that covers t
 he key points of the Prevent Duty\, Channel Duty and schools requirements 
 under the Counter Terrorism &amp\; Security Act 2015.
 Also included is a
  consultation on how to create a risk assessment that covers all the key e
 lements of Prevent.
 Training will incorporate:
 
 Prevent Duty trainin
 g for up to 30 participants.
 Materials and resources\, including certifi
 cates for attendance on half-day course if required.
 Signposting to webs
 ites and Home Office documentation that will assist with your staff&rsquo\
 ;s development and learning.
 Phone support
 Strategy document for SMT

  Risk Assessment &amp\; Action Plan support/development
 
 The training 
 is delivered didactically with the use of PowerPoint and some video clips.
  The session usually runs for 3 hours\, which includes a coffee break. We 
 try and bring our training to life using real life case studies\; some of 
 the cases are local cases that we have worked on.
LOCATION:Barnwell Rd\, Wellingborough NN8\, UK
DTSTART:20170927T080000Z
DTSTAMP:20260426T013544Z
ORGANIZER;CN=5 Wells Development Centre:MAILTO:victoria.brennan@5wells.org.
 uk
GEO:52.314941;-0.712512
X-APPLE-STRUCTURED-LOCATION;VALUE=URI;X-ADDRESS=Barnwell Rd\, Wellingboroug
 h NN8\, UK;X-APPLE-RADIUS=72;X-TITLE=5 Wells Development Centre @ Redwell 
 Primary :52.314941;-0.712512
END:VEVENT
END:VCALENDAR