BEGIN:VCALENDAR
VERSION:2.0
PRODID:Events Booking
BEGIN:VEVENT
UID:69ed6d4494c86
SUMMARY:FS1209 First Aid Training
DESCRIPTION:
 Emergency Paediatric First Aid (RQF)
 Certifiable for 3 yea
 rs
 Ofqual Regulated
 What's covered?
 &nbsp\;
 
 
 The roles and re
 sponsibilities of an emergency paediatric first aider
 
 
 Assessing an
  emergency situation
 
 
 Dealing with an unresponsive infant situation
 
 
 
 Recovery position
 
 
 CPR and AED
 
 
 Choking
 
 
 Min
 or Injuries
 
 
 Bites and Stings
 
 
 Seizures
 
 
 External Ble
 eding
 
 
 Hypovolaemic shock
 
 
LOCATION:Barnwell Rd\, Wellingborough NN8\, UK
DTSTART:20170912T080000Z
DTEND:20170912T150000Z
DTSTAMP:20260426T014124Z
ORGANIZER;CN=5 Wells Development Centre:MAILTO:victoria.brennan@5wells.org.
 uk
GEO:52.314941;-0.712512
X-APPLE-STRUCTURED-LOCATION;VALUE=URI;X-ADDRESS=Barnwell Rd\, Wellingboroug
 h NN8\, UK;X-APPLE-RADIUS=72;X-TITLE=5 Wells Development Centre @ Redwell 
 Primary :52.314941;-0.712512
END:VEVENT
END:VCALENDAR