BEGIN:VCALENDAR
VERSION:2.0
PRODID:Events Booking
BEGIN:VEVENT
UID:69e985cb63f66
SUMMARY:CUP0807 Effective Use of the Catch-Up Premium
DESCRIPTION:PLEASE NOT REVISED DATE - 9TH JULY 2021
 &nbsp\;
 
DTSTART:20210709T080000Z
DTEND:20210709T090000Z
DTSTAMP:20260423T023659Z
ORGANIZER;CN=5 Wells Development Centre:MAILTO:victoria.brennan@5wells.org.
 uk
END:VEVENT
END:VCALENDAR