BEGIN:VCALENDAR
VERSION:2.0
PRODID:Events Booking
BEGIN:VEVENT
UID:69e9377d3b081
SUMMARY:ECFMS0410 ECF Secondary Mentor Training
DESCRIPTION:
DTSTART:20211004T150000Z
DTEND:20211004T163000Z
DTSTAMP:20260422T210253Z
ORGANIZER;CN=5 Wells Development Centre:MAILTO:victoria.brennan@5wells.org.
 uk
END:VEVENT
END:VCALENDAR