BEGIN:VCALENDAR
VERSION:2.0
PRODID:Events Booking
BEGIN:VEVENT
UID:69e8efff992e7
SUMMARY:ECFMS1701 ECF Secondary Mentor Training
DESCRIPTION:
DTSTART:20220117T160000Z
DTEND:20220117T173000Z
DTSTAMP:20260422T155751Z
ORGANIZER;CN=5 Wells Development Centre:MAILTO:victoria.brennan@5wells.org.
 uk
END:VEVENT
END:VCALENDAR