BEGIN:VCALENDAR
VERSION:2.0
PRODID:Events Booking
BEGIN:VEVENT
UID:69e8b69f4a9d4
SUMMARY:ECFMS0703 ECF Secondary Mentor Training
DESCRIPTION:
DTSTART:20220307T160000Z
DTEND:20220307T173000Z
DTSTAMP:20260422T115303Z
ORGANIZER;CN=5 Wells Development Centre:MAILTO:victoria.brennan@5wells.org.
 uk
END:VEVENT
END:VCALENDAR