BEGIN:VCALENDAR
VERSION:2.0
PRODID:Events Booking
BEGIN:VEVENT
UID:69e88cb56bcef
SUMMARY:ECFMS1605 ECF Secondary Mentor Training
DESCRIPTION:
DTSTART:20220516T150000Z
DTEND:20220516T163000Z
DTSTAMP:20260422T085413Z
ORGANIZER;CN=5 Wells Development Centre:MAILTO:victoria.brennan@5wells.org.
 uk
END:VEVENT
END:VCALENDAR