BEGIN:VCALENDAR
VERSION:2.0
PRODID:Events Booking
BEGIN:VEVENT
UID:69e876059ffb5
SUMMARY:ECFMS2006 ECF Secondary Mentor Training
DESCRIPTION:
DTSTART:20220620T150000Z
DTEND:20220620T163000Z
DTSTAMP:20260422T071725Z
ORGANIZER;CN=5 Wells Development Centre:MAILTO:victoria.brennan@5wells.org.
 uk
END:VEVENT
END:VCALENDAR