BEGIN:VCALENDAR
VERSION:2.0
PRODID:Events Booking
BEGIN:VEVENT
UID:69e937b9c2e86
SUMMARY:ECFMP0510 ECF Primary 1 Mentor Training
DESCRIPTION:
DTSTART:20211005T150000Z
DTEND:20211005T163000Z
DTSTAMP:20260422T210353Z
ORGANIZER;CN=5 Wells Development Centre:MAILTO:victoria.brennan@5wells.org.
 uk
END:VEVENT
END:VCALENDAR