BEGIN:VCALENDAR
VERSION:2.0
PRODID:Events Booking
BEGIN:VEVENT
UID:69ed59385a748
SUMMARY:ASP1210AM Analyse School Performance 
DESCRIPTION:
 &nbsp\;
 As you may be aware\, the DfE are in the process o
 f updating their School Data software and RaiseOnline will soon be replace
 d by ASP.
 Quote from DfE website:
 
 The Department for Education (DfE
 ) are launching a new service\, which will provide schools and other exist
 ing user groups with detailed performance analysis to support local school
  improvement as a replacement to RAISEonline. We hope to have this ready i
 n late April/early May. The name of the new service will be announced as s
 oon as confirmed.
 The current RAISEonline service will be available unti
 l Monday 31 July 2017. This will allow users to familiarise themselves wit
 h the new service and provide feedback before the current one is taken off
 line.&nbsp\;&nbsp\;
 During this period of dual running we will continue 
 to develop the new service and plan to release an updated version in July 
 2017. During this time\, we will also seek your feedback through formal te
 sting and user surveys which are built into the new service.&nbsp\;
 Insp
 ectors will continue to use the data available in the existing summary rep
 ort and inspection dashboard to prepare for inspections\, until 2017 datas
 ets are released in the autumn term.
 
 We have scheduled training from 
 our expert facilitators to take you through the new system and ensure that
  you are comfortable with how it all works and where to find all of the da
 ta you\, as a school\, need.&nbsp\; We have built in a little leeway into 
 our date to try to ensure that the training will coincide with the release
  of the 2017 data.
 These sessions will fill very quickly so we are offer
 ing you the opportunity to book your slot now - if we have to change the d
 ate we will advise as quickly as possible.
 Multi booking discount.&nbsp\
 ; &pound\;100 for the first delegate\, &pound\;75 for second and subsequen
 t delegates
LOCATION:Barnwell Rd\, Wellingborough NN8\, UK
DTSTART:20171012T083000Z
DTEND:20171012T113000Z
DTSTAMP:20260426T001552Z
ORGANIZER;CN=5 Wells Development Centre:MAILTO:victoria.brennan@5wells.org.
 uk
GEO:52.314941;-0.712512
X-APPLE-STRUCTURED-LOCATION;VALUE=URI;X-ADDRESS=Barnwell Rd\, Wellingboroug
 h NN8\, UK;X-APPLE-RADIUS=72;X-TITLE=5 Wells Development Centre @ Redwell 
 Primary :52.314941;-0.712512
END:VEVENT
END:VCALENDAR