BEGIN:VCALENDAR
VERSION:2.0
PRODID:Events Booking
BEGIN:VEVENT
UID:69e8f02422579
SUMMARY:ECFMP1801 ECF Primary 1 Mentor Training
DESCRIPTION:
DTSTART:20220118T160000Z
DTEND:20220118T173000Z
DTSTAMP:20260422T155828Z
ORGANIZER;CN=5 Wells Development Centre:MAILTO:victoria.brennan@5wells.org.
 uk
END:VEVENT
END:VCALENDAR