BEGIN:VCALENDAR
VERSION:2.0
PRODID:Events Booking
BEGIN:VEVENT
UID:69e8bbbd683fc
SUMMARY:ECFMP0803 ECF Primary 1 Mentor Training
DESCRIPTION:
DTSTART:20220308T160000Z
DTEND:20220308T173000Z
DTSTAMP:20260422T121453Z
ORGANIZER;CN=5 Wells Development Centre:MAILTO:victoria.brennan@5wells.org.
 uk
END:VEVENT
END:VCALENDAR