BEGIN:VCALENDAR
VERSION:2.0
PRODID:Events Booking
BEGIN:VEVENT
UID:69e88cdd0a03a
SUMMARY:ECFMP1005 ECF Primary 1 Mentor Training
DESCRIPTION:
DTSTART:20220510T150000Z
DTEND:20220510T163000Z
DTSTAMP:20260422T085453Z
ORGANIZER;CN=5 Wells Development Centre:MAILTO:victoria.brennan@5wells.org.
 uk
END:VEVENT
END:VCALENDAR