BEGIN:VCALENDAR
VERSION:2.0
PRODID:Events Booking
BEGIN:VEVENT
UID:69e879e82290b
SUMMARY:ECFMP2106 ECF Primary 1 Mentor Training
DESCRIPTION:
DTSTART:20220621T150000Z
DTEND:20220621T163000Z
DTSTAMP:20260422T073400Z
ORGANIZER;CN=5 Wells Development Centre:MAILTO:victoria.brennan@5wells.org.
 uk
END:VEVENT
END:VCALENDAR