BEGIN:VCALENDAR
VERSION:2.0
PRODID:Events Booking
BEGIN:VEVENT
UID:69e9375cb056d
SUMMARY:ECFPECT1910 Primary ECT 
DESCRIPTION:
 
DTSTART:20211019T150000Z
DTEND:20211019T163000Z
DTSTAMP:20260422T210220Z
ORGANIZER;CN=5 Wells Development Centre:MAILTO:victoria.brennan@5wells.org.
 uk
END:VEVENT
END:VCALENDAR