BEGIN:VCALENDAR
VERSION:2.0
PRODID:Events Booking
BEGIN:VEVENT
UID:69e92042ded8c
SUMMARY:ECFPECT1611 Primary ECT
DESCRIPTION:
 
DTSTART:20211116T160000Z
DTEND:20211116T173000Z
DTSTAMP:20260422T192346Z
ORGANIZER;CN=5 Wells Development Centre:MAILTO:victoria.brennan@5wells.org.
 uk
END:VEVENT
END:VCALENDAR