BEGIN:VCALENDAR
VERSION:2.0
PRODID:Events Booking
BEGIN:VEVENT
UID:69e9061b0d7f3
SUMMARY:ECFPECT0712 Primary ECT
DESCRIPTION:
 
DTSTART:20211207T160000Z
DTEND:20211207T173000Z
DTSTAMP:20260422T173211Z
ORGANIZER;CN=5 Wells Development Centre:MAILTO:victoria.brennan@5wells.org.
 uk
END:VEVENT
END:VCALENDAR