BEGIN:VCALENDAR
VERSION:2.0
PRODID:Events Booking
BEGIN:VEVENT
UID:69e8ec2767af9
SUMMARY:ECFPECT1101 Primary ECT 
DESCRIPTION:
 
DTSTART:20220111T160000Z
DTEND:20220111T173000Z
DTSTAMP:20260422T154127Z
ORGANIZER;CN=5 Wells Development Centre:MAILTO:victoria.brennan@5wells.org.
 uk
END:VEVENT
END:VCALENDAR