BEGIN:VCALENDAR
VERSION:2.0
PRODID:Events Booking
BEGIN:VEVENT
UID:69ed5921b9da8
SUMMARY:ASP1210PM Analyse School Performance
DESCRIPTION:This session is now full
 &nbsp\;
 
 &nbsp\;
 As you may be
  aware\, the DfE are in the process of updating their School Data software
  and RaiseOnline will soon be replaced by ASP.
 Quote from DfE website:

  
 The Department for Education (DfE) are launching a new service\, which
  will provide schools and other existing user groups with detailed perform
 ance analysis to support local school improvement as a replacement to RAIS
 Eonline. We hope to have this ready in late April/early May. The name of t
 he new service will be announced as soon as confirmed.
 The current RAISE
 online service will be available until Monday 31 July 2017. This will allo
 w users to familiarise themselves with the new service and provide feedbac
 k before the current one is taken offline.&nbsp\;&nbsp\;
 During this per
 iod of dual running we will continue to develop the new service and plan t
 o release an updated version in July 2017. During this time\, we will also
  seek your feedback through formal testing and user surveys which are buil
 t into the new service.&nbsp\;
 Inspectors will continue to use the data 
 available in the existing summary report and inspection dashboard to prepa
 re for inspections\, until 2017 datasets are released in the autumn term.
 
 
 We have scheduled training from our expert facilitators to take you t
 hrough the new system and ensure that you are comfortable with how it all 
 works and where to find all of the data you\, as a school\, need.&nbsp\; W
 e have built in a little leeway into our date to try to ensure that the tr
 aining will coincide with the release of the 2017 data.
 These sessions w
 ill fill very quickly so we are offering you the opportunity to book your 
 slot now - if we have to change the date we will advise as quickly as poss
 ible.
 Multi booking discount.&nbsp\; &pound\;100 for the first delegate\
 , &pound\;75 for second and subsequent delegates
LOCATION:Barnwell Rd\, Wellingborough NN8\, UK
DTSTART:20171012T120000Z
DTEND:20171012T150000Z
DTSTAMP:20260426T001529Z
ORGANIZER;CN=5 Wells Development Centre:MAILTO:victoria.brennan@5wells.org.
 uk
GEO:52.314941;-0.712512
X-APPLE-STRUCTURED-LOCATION;VALUE=URI;X-ADDRESS=Barnwell Rd\, Wellingboroug
 h NN8\, UK;X-APPLE-RADIUS=72;X-TITLE=5 Wells Development Centre @ Redwell 
 Primary :52.314941;-0.712512
END:VEVENT
END:VCALENDAR