BEGIN:VCALENDAR
VERSION:2.0
PRODID:Events Booking
BEGIN:VEVENT
UID:69e8b8304b8fb
SUMMARY:ECFPECT0103 Primary ECT
DESCRIPTION:
 
DTSTART:20220301T160000Z
DTEND:20220301T173000Z
DTSTAMP:20260422T115944Z
ORGANIZER;CN=5 Wells Development Centre:MAILTO:victoria.brennan@5wells.org.
 uk
END:VEVENT
END:VCALENDAR