BEGIN:VCALENDAR
VERSION:2.0
PRODID:Events Booking
BEGIN:VEVENT
UID:69e8b7cde0032
SUMMARY:ECFPECT2203 Primary ECT
DESCRIPTION:
 
DTSTART:20220322T160000Z
DTEND:20220322T173000Z
DTSTAMP:20260422T115805Z
ORGANIZER;CN=5 Wells Development Centre:MAILTO:victoria.brennan@5wells.org.
 uk
END:VEVENT
END:VCALENDAR