BEGIN:VCALENDAR
VERSION:2.0
PRODID:Events Booking
BEGIN:VEVENT
UID:69e890d133dd5
SUMMARY:ECFPECT0305 Primary ECT
DESCRIPTION:
 
DTSTART:20220503T150000Z
DTEND:20220503T163000Z
DTSTAMP:20260422T091145Z
ORGANIZER;CN=5 Wells Development Centre:MAILTO:victoria.brennan@5wells.org.
 uk
END:VEVENT
END:VCALENDAR