BEGIN:VCALENDAR
VERSION:2.0
PRODID:Events Booking
BEGIN:VEVENT
UID:69e88c96605c0
SUMMARY:ECFPECT2405 Primary ECT
DESCRIPTION:
 
DTSTART:20220524T150000Z
DTEND:20220524T163000Z
DTSTAMP:20260422T085342Z
ORGANIZER;CN=5 Wells Development Centre:MAILTO:victoria.brennan@5wells.org.
 uk
END:VEVENT
END:VCALENDAR