BEGIN:VCALENDAR
VERSION:2.0
PRODID:Events Booking
BEGIN:VEVENT
UID:69e8756b98c18
SUMMARY:ECFPECT1406 Primary ECT
DESCRIPTION:
 
DTSTART:20220614T150000Z
DTEND:20220614T163000Z
DTSTAMP:20260422T071451Z
ORGANIZER;CN=5 Wells Development Centre:MAILTO:victoria.brennan@5wells.org.
 uk
END:VEVENT
END:VCALENDAR