BEGIN:VCALENDAR
VERSION:2.0
PRODID:Events Booking
BEGIN:VEVENT
UID:69e860aacfa7f
SUMMARY:ECFPECT1207 Primary ECT
DESCRIPTION:
 
DTSTART:20220712T150000Z
DTEND:20220712T163000Z
DTSTAMP:20260422T054618Z
ORGANIZER;CN=5 Wells Development Centre:MAILTO:victoria.brennan@5wells.org.
 uk
END:VEVENT
END:VCALENDAR