BEGIN:VCALENDAR
VERSION:2.0
PRODID:Events Booking
BEGIN:VEVENT
UID:69ed6e482bc89
SUMMARY:KM2209 Senior Leader Coaching with Katherine Murby
DESCRIPTION:
LOCATION:Barnwell Rd\, Wellingborough NN8\, UK
DTSTART:20170922T080000Z
DTEND:20170922T100000Z
DTSTAMP:20260426T014544Z
ORGANIZER;CN=5 Wells Development Centre:MAILTO:victoria.brennan@5wells.org.
 uk
GEO:52.314941;-0.712512
X-APPLE-STRUCTURED-LOCATION;VALUE=URI;X-ADDRESS=Barnwell Rd\, Wellingboroug
 h NN8\, UK;X-APPLE-RADIUS=72;X-TITLE=5 Wells Development Centre @ Redwell 
 Primary :52.314941;-0.712512
END:VEVENT
END:VCALENDAR