BEGIN:VCALENDAR
VERSION:2.0
PRODID:Events Booking
BEGIN:VEVENT
UID:69e92176edd7a
SUMMARY:ECFRQT ALL ECF RQT and UQT training
DESCRIPTION:PLEASE USE THIS BOOKING TO REGISTER YOUR RQT/UQT FOR ALL OF THE
  SESSIONS IN THIS PROGRAMME.&nbsp\; 
 THIS WILL ENTITLE YOU TO THE WHOLE 
 PROGRAMME DISCOUNT
 &nbsp\;
 
LOCATION:Barnwell Rd\, Wellingborough NN8\, UK
DTSTART:20211109T125500Z
DTEND:20211109T170000Z
DTSTAMP:20260422T192854Z
ORGANIZER;CN=5 Wells Development Centre:MAILTO:victoria.brennan@5wells.org.
 uk
GEO:52.314941;-0.712512
X-APPLE-STRUCTURED-LOCATION;VALUE=URI;X-ADDRESS=Barnwell Rd\, Wellingboroug
 h NN8\, UK;X-APPLE-RADIUS=72;X-TITLE=5 Wells Development Centre @ Redwell 
 Primary :52.314941;-0.712512
END:VEVENT
END:VCALENDAR