BEGIN:VCALENDAR
VERSION:2.0
PRODID:Events Booking
BEGIN:VEVENT
UID:69ed49b740ff6
SUMMARY:KM2411 Katherine Murby: Coaching for Senior Leaders
DESCRIPTION:ROUND 1 OF THIS PROGRAMME IS NOW FULL - WE HAVE ADDED A SECOND 
 ROUND\, PLEASE SEE THE CALENDAR OR CONTACT US ON 01933 400549
 
 &nbsp\;
 Session 1
 Following our taster session\, Katherine will be running 3 wor
 kshops for Senior Leaders. In these sessions she will cover:
 &uml\;&nbsp
 \;The importance of managing yourself and creating an effective work / lif
 e balance. Developing resilience. Opportunities to focus on your areas of 
 strength to increase confidence levels improving your performance levels.
 
 &nbsp\;
LOCATION:Barnwell Rd\, Wellingborough NN8\, UK
DTSTART:20171124T090000Z
DTEND:20171124T153000Z
DTSTAMP:20260425T230943Z
ORGANIZER;CN=5 Wells Development Centre:MAILTO:victoria.brennan@5wells.org.
 uk
GEO:52.314941;-0.712512
X-APPLE-STRUCTURED-LOCATION;VALUE=URI;X-ADDRESS=Barnwell Rd\, Wellingboroug
 h NN8\, UK;X-APPLE-RADIUS=72;X-TITLE=5 Wells Development Centre @ Redwell 
 Primary :52.314941;-0.712512
END:VEVENT
END:VCALENDAR