BEGIN:VCALENDAR
VERSION:2.0
PRODID:Events Booking
BEGIN:VEVENT
UID:69e8ed51ae763
SUMMARY:ECFMP2001 ECF Primary 2 Mentor Training
DESCRIPTION:
DTSTART:20220120T160000Z
DTEND:20220120T173000Z
DTSTAMP:20260422T154625Z
ORGANIZER;CN=5 Wells Development Centre:MAILTO:victoria.brennan@5wells.org.
 uk
END:VEVENT
END:VCALENDAR