BEGIN:VCALENDAR
VERSION:2.0
PRODID:Events Booking
BEGIN:VEVENT
UID:69e8bb899e06e
SUMMARY:ECFMP1003 ECF Primary 2 Mentor Training
DESCRIPTION:
DTSTART:20220310T160000Z
DTEND:20220310T173000Z
DTSTAMP:20260422T121401Z
ORGANIZER;CN=5 Wells Development Centre:MAILTO:victoria.brennan@5wells.org.
 uk
END:VEVENT
END:VCALENDAR