BEGIN:VCALENDAR
VERSION:2.0
PRODID:Events Booking
BEGIN:VEVENT
UID:69e88d723cc91
SUMMARY:ECFMP1005 ECF Primary 2 Mentor Training
DESCRIPTION:
DTSTART:20220512T150000Z
DTEND:20220512T163000Z
DTSTAMP:20260422T085722Z
ORGANIZER;CN=5 Wells Development Centre:MAILTO:victoria.brennan@5wells.org.
 uk
END:VEVENT
END:VCALENDAR