BEGIN:VCALENDAR
VERSION:2.0
PRODID:Events Booking
BEGIN:VEVENT
UID:69e877fa8c2fa
SUMMARY:ECFMP2306 ECF Primary 2 Mentor Training
DESCRIPTION:
DTSTART:20220623T150000Z
DTEND:20220623T163000Z
DTSTAMP:20260422T072546Z
ORGANIZER;CN=5 Wells Development Centre:MAILTO:victoria.brennan@5wells.org.
 uk
END:VEVENT
END:VCALENDAR