BEGIN:VCALENDAR
VERSION:2.0
PRODID:Events Booking
BEGIN:VEVENT
UID:69e950a5c2625
SUMMARY:RFP2809 Reading For Pleasure Launch Session
DESCRIPTION:
DTSTART:20210928T150000Z
DTEND:20210928T160000Z
DTSTAMP:20210921T132458Z
ORGANIZER;CN=5 Wells Development Centre:MAILTO:victoria.brennan@5wells.org.
 uk
END:VEVENT
END:VCALENDAR