BEGIN:VCALENDAR
VERSION:2.0
PRODID:Events Booking
BEGIN:VEVENT
UID:69e93ba138220
SUMMARY:RFP0510 Reading For Pleasure
DESCRIPTION:
DTSTART:20211005T150000Z
DTEND:20211005T163000Z
DTSTAMP:20210921T132638Z
ORGANIZER;CN=5 Wells Development Centre:MAILTO:victoria.brennan@5wells.org.
 uk
END:VEVENT
END:VCALENDAR