BEGIN:VCALENDAR
VERSION:2.0
PRODID:Events Booking
BEGIN:VEVENT
UID:69e920e73578c
SUMMARY:RFP1611 Reading For Pleasure
DESCRIPTION:
DTSTART:20211116T160000Z
DTEND:20211116T173000Z
DTSTAMP:20210921T132822Z
ORGANIZER;CN=5 Wells Development Centre:MAILTO:victoria.brennan@5wells.org.
 uk
END:VEVENT
END:VCALENDAR