BEGIN:VCALENDAR
VERSION:2.0
PRODID:Events Booking
BEGIN:VEVENT
UID:69e8f39229bdc
SUMMARY:RFP1101 Reading For Pleasure
DESCRIPTION:
DTSTART:20220111T160000Z
DTEND:20220111T173000Z
DTSTAMP:20210921T132858Z
ORGANIZER;CN=5 Wells Development Centre:MAILTO:victoria.brennan@5wells.org.
 uk
END:VEVENT
END:VCALENDAR